BEGIN:VCALENDAR
VERSION:2.0
PRODID:-//St George Touch Association - ECPv6.15.17.1//NONSGML v1.0//EN
CALSCALE:GREGORIAN
METHOD:PUBLISH
X-WR-CALNAME:St George Touch Association
X-ORIGINAL-URL:https://st-george.nswtouch.com.au
X-WR-CALDESC:Events for St George Touch Association
REFRESH-INTERVAL;VALUE=DURATION:PT1H
X-Robots-Tag:noindex
X-PUBLISHED-TTL:PT1H
BEGIN:VTIMEZONE
TZID:Australia/Sydney
BEGIN:STANDARD
TZOFFSETFROM:+1100
TZOFFSETTO:+1000
TZNAME:AEST
DTSTART:20230401T160000
END:STANDARD
BEGIN:DAYLIGHT
TZOFFSETFROM:+1000
TZOFFSETTO:+1100
TZNAME:AEDT
DTSTART:20230930T160000
END:DAYLIGHT
BEGIN:STANDARD
TZOFFSETFROM:+1100
TZOFFSETTO:+1000
TZNAME:AEST
DTSTART:20240406T160000
END:STANDARD
BEGIN:DAYLIGHT
TZOFFSETFROM:+1000
TZOFFSETTO:+1100
TZNAME:AEDT
DTSTART:20241005T160000
END:DAYLIGHT
BEGIN:STANDARD
TZOFFSETFROM:+1100
TZOFFSETTO:+1000
TZNAME:AEST
DTSTART:20250405T160000
END:STANDARD
BEGIN:DAYLIGHT
TZOFFSETFROM:+1000
TZOFFSETTO:+1100
TZNAME:AEDT
DTSTART:20251004T160000
END:DAYLIGHT
BEGIN:STANDARD
TZOFFSETFROM:+1100
TZOFFSETTO:+1000
TZNAME:AEST
DTSTART:20260404T160000
END:STANDARD
BEGIN:DAYLIGHT
TZOFFSETFROM:+1000
TZOFFSETTO:+1100
TZNAME:AEDT
DTSTART:20261003T160000
END:DAYLIGHT
END:VTIMEZONE
BEGIN:VEVENT
DTSTART;TZID=Australia/Sydney:20250912T063000
DTEND;TZID=Australia/Sydney:20250912T063000
DTSTAMP:20260423T122826
CREATED:20250612T003033Z
LAST-MODIFIED:20250612T004905Z
UID:2307-1757658600-1757658600@st-george.nswtouch.com.au
SUMMARY:Vawdon Cup 2025
DESCRIPTION:St George Touch have a opened our EOI for Vawdon Cup 2025. The competition will begin Friday 12 September and will run over a period of 7 weeks (inc Finals) \nWe have an EOI open for the following teams \n\nMens Open (Ages 16+)\nWomens Open (Ages 16+)\nYouth League Girls (13-17 Years)\nYouth League Boys (13-17 Years)\n\nPlease fill out the EOI below if interested as training will begin by the end of this month. \nVawdon Cup 2025 – Expressions of Interest – Google Forms
URL:https://st-george.nswtouch.com.au/event/vawdon-cup-2025/
END:VEVENT
BEGIN:VEVENT
DTSTART;TZID=Australia/Sydney:20241104T170000
DTEND;TZID=Australia/Sydney:20241104T183000
DTSTAMP:20260423T122826
CREATED:20241023T021334Z
LAST-MODIFIED:20241023T021334Z
UID:2383-1730739600-1730745000@st-george.nswtouch.com.au
SUMMARY:Junior State Cup Trials 4th November 2024 - 5:00pm to 6:30pm Beverly Hills Park
DESCRIPTION:
URL:https://st-george.nswtouch.com.au/event/junior-state-cup-trials-4th-november-2024-500pm-to-630pm-beverly-hills-park/
LOCATION:Beverly Hills Park\, 199 Vanvessa St\, Beverly Hills\, NSW\, 2209\, Australia
END:VEVENT
END:VCALENDAR